BEGIN:VCALENDAR
VERSION:2.0
PRODID:-//hacksw/handcal//NONSGML v1.0//EN
BEGIN:VEVENT
SUMMARY:Tournoi de Tonnerre
UID:352516d7-b004-4bdb-a850-099e56167f2b
DTSTART:20260509T063000Z
DTEND:20260509T220000Z
LOCATION:Localisation gymnase abel minard  tonnerre
CATEGORIES:Sportif
STATUS:
DESCRIPTION:<p>Le club de Tonnerre organise un tournoi en double
 libre le samedi 9 mai 2026.</p>
 
 <p>Inscription:
 2€/joueur</p>
 
 <p>Buvette et restauration sur place avec formule a
 5€ possible </p>
 
 <p> </p>
URL;VALUE=URI:https://venoy.sportsregions.fr/evenements/2026/05/09/tournoi-de-tonnerre-2443071
END:VEVENT
END:VCALENDAR
